BEGIN:VCALENDAR
VERSION:2.0
PRODID:-//Silver Bullet Memorial Racing League - ECPv6.15.17//NONSGML v1.0//EN
CALSCALE:GREGORIAN
METHOD:PUBLISH
X-ORIGINAL-URL:http://www.rhinopeel.com/sbmrl
X-WR-CALDESC:Events for Silver Bullet Memorial Racing League
REFRESH-INTERVAL;VALUE=DURATION:PT1H
X-Robots-Tag:noindex
X-PUBLISHED-TTL:PT1H
BEGIN:VTIMEZONE
TZID:America/Los_Angeles
BEGIN:DAYLIGHT
TZOFFSETFROM:-0800
TZOFFSETTO:-0700
TZNAME:PDT
DTSTART:20190310T100000
END:DAYLIGHT
BEGIN:STANDARD
TZOFFSETFROM:-0700
TZOFFSETTO:-0800
TZNAME:PST
DTSTART:20191103T090000
END:STANDARD
BEGIN:DAYLIGHT
TZOFFSETFROM:-0800
TZOFFSETTO:-0700
TZNAME:PDT
DTSTART:20200308T100000
END:DAYLIGHT
BEGIN:STANDARD
TZOFFSETFROM:-0700
TZOFFSETTO:-0800
TZNAME:PST
DTSTART:20201101T090000
END:STANDARD
BEGIN:DAYLIGHT
TZOFFSETFROM:-0800
TZOFFSETTO:-0700
TZNAME:PDT
DTSTART:20210314T100000
END:DAYLIGHT
BEGIN:STANDARD
TZOFFSETFROM:-0700
TZOFFSETTO:-0800
TZNAME:PST
DTSTART:20211107T090000
END:STANDARD
END:VTIMEZONE
BEGIN:VEVENT
DTSTART;TZID=America/Los_Angeles:20200321T203000
DTEND;TZID=America/Los_Angeles:20200321T233000
DTSTAMP:20260422T091005
CREATED:20190927T055038Z
LAST-MODIFIED:20190927T055038Z
UID:2784-1584822600-1584833400@www.rhinopeel.com
SUMMARY:Australia
DESCRIPTION:We race in Melbourne the same week the Australian Grand Prix is held\, kicking off the 2020 F1 season.
URL:http://www.rhinopeel.com/sbmrl/event/australia-2/
LOCATION:Esselink’s House\, United States
END:VEVENT
END:VCALENDAR